BEGIN:VCALENDAR
VERSION:2.0
PRODID:-//eventon.com NONSGML v1.0//EN
CALSCALE:GREGORIAN
METHOD:PUBLISH
BEGIN:VEVENT
UID:69ea3db4005e8
DTSTAMP:20260423T154140Z
DTSTART:20251024T110000Z
DTEND:20251024T130000Z
LOCATION:Douglass Park Cultural and Community Center
SUMMARY:Working With The Land Bank
DESCRIPTION:Looking for your next project? Join us at our Working with the 
 Land Bank seminar to learn more about how to acquire vacant and abandoned p
 roperties from the CCLBA. Follow the link below to register event\,  which 
 is at the  Douglass Park Cultural and Community Center located at 1401 S
 . Sacramento Dr.\, [..]\nhttps://cookcountylandbank.org/events/working-with
 -the-land-bank-20251024/
URL:https://cookcountylandbank.org/events/working-with-the-land-bank-20251024/
END:VEVENT
END:VCALENDAR