BEGIN:VCALENDAR
VERSION:2.0
PRODID:-//eventon.com NONSGML v1.0//EN
CALSCALE:GREGORIAN
METHOD:PUBLISH
BEGIN:VEVENT
UID:69ea37bbd970b
DTSTAMP:20260423T151611Z
DTSTART:20190709T120000Z
DTEND:20190709T140000Z
LOCATION:Hilton Hotel - Chicago 720 S Michigan Ave
SUMMARY:3RD ANNUAL APPRECIATION LUNCHEON
DESCRIPTION:CLICK HERE TO REGISTER! The Cook County Land Bank Authority (CC
 LBA) will host its 3rd Annual Appreciation Luncheon on July 9\,  2019\,  1
 2 p.m. – 2 p.m.\,  to celebrate all of the hard work and accomplishments 
 of everyone who has played a part in making the Cook County Land Bank a[..]
 \nhttps://cookcountylandbank.org/events/3rd-annual-appreciation-luncheon/
URL:https://cookcountylandbank.org/events/3rd-annual-appreciation-luncheon/
END:VEVENT
END:VCALENDAR